BEGIN:VCALENDAR
VERSION:2.0
PRODID:-//rssny.org//NONSGML kigkonsult.se iCalcreator 2.30.10//
CALSCALE:GREGORIAN
METHOD:PUBLISH
UID:31935889-1a69-47b8-ae05-3edb295053b6
X-WR-CALDESC:Join us for breakfast at the Center!
X-WR-RELCALID:48690bef23ee12fd6600d78f12b3184e
X-WR-TIMEZONE:America/New_York
BEGIN:VTIMEZONE
TZID:America/New_York
BEGIN:STANDARD
TZNAME:EST
DTSTART:20261101T020000
TZOFFSETFROM:-0400
TZOFFSETTO:-0500
RDATE:20271107T020000
END:STANDARD
BEGIN:DAYLIGHT
TZNAME:EDT
DTSTART:20260308T020000
TZOFFSETFROM:-0500
TZOFFSETTO:-0400
RDATE:20270314T020000
RDATE:20280312T020000
END:DAYLIGHT
END:VTIMEZONE
BEGIN:VEVENT
UID:fc0a4729-6978-47ee-a0f9-06ee5541a38f
DTSTAMP:20260423T091154Z
DESCRIPTION:Join us for breakfast at the Center!
DTSTART;TZID=America/New_York:20261130T090000
DTEND;TZID=America/New_York:20261130T100000
LOCATION:
SUMMARY:Breakfast Club (In Center)
END:VEVENT
END:VCALENDAR
