BEGIN:VCALENDAR
VERSION:2.0
PRODID:-//rssny.org//NONSGML kigkonsult.se iCalcreator 2.30.10//
CALSCALE:GREGORIAN
METHOD:PUBLISH
UID:877c9e08-3a33-47dc-bd9f-e7a821456222
X-WR-CALDESC:Join us for breakfast at the Center!
X-WR-RELCALID:6711104c3b1a04efc6ed2529dbcd944f
X-WR-TIMEZONE:America/New_York
BEGIN:VTIMEZONE
TZID:America/New_York
BEGIN:STANDARD
TZNAME:EST
DTSTART:20261101T020000
TZOFFSETFROM:-0400
TZOFFSETTO:-0500
RDATE:20271107T020000
END:STANDARD
BEGIN:DAYLIGHT
TZNAME:EDT
DTSTART:20260308T020000
TZOFFSETFROM:-0500
TZOFFSETTO:-0400
RDATE:20270314T020000
RDATE:20280312T020000
END:DAYLIGHT
END:VTIMEZONE
BEGIN:VEVENT
UID:589ad6b5-1da4-4d5a-b390-ffa2bcad5bd7
DTSTAMP:20260423T090302Z
DESCRIPTION:Join us for breakfast at the Center!
DTSTART;TZID=America/New_York:20261127T090000
DTEND;TZID=America/New_York:20261127T100000
LOCATION:
SUMMARY:Breakfast Club (In Center)
END:VEVENT
END:VCALENDAR
