BEGIN:VCALENDAR
VERSION:2.0
PRODID:-//rssny.org//NONSGML kigkonsult.se iCalcreator 2.30.10//
CALSCALE:GREGORIAN
METHOD:PUBLISH
UID:a72cd138-9b11-41a2-8d7a-bc4ff1e83bdc
X-WR-CALDESC:Join us for breakfast at the Center!
X-WR-RELCALID:71872a804f3d7c061881260e60b9c5df
X-WR-TIMEZONE:America/New_York
BEGIN:VTIMEZONE
TZID:America/New_York
BEGIN:STANDARD
TZNAME:EST
DTSTART:20261101T020000
TZOFFSETFROM:-0400
TZOFFSETTO:-0500
RDATE:20271107T020000
END:STANDARD
BEGIN:DAYLIGHT
TZNAME:EDT
DTSTART:20260308T020000
TZOFFSETFROM:-0500
TZOFFSETTO:-0400
RDATE:20270314T020000
RDATE:20280312T020000
END:DAYLIGHT
END:VTIMEZONE
BEGIN:VEVENT
UID:bd341155-fc24-47d6-934f-ef1c3fe21b5d
DTSTAMP:20260421T111858Z
DESCRIPTION:Join us for breakfast at the Center!
DTSTART;TZID=America/New_York:20261120T090000
DTEND;TZID=America/New_York:20261120T100000
LOCATION:
SUMMARY:Breakfast Club (In Center)
END:VEVENT
END:VCALENDAR
