BEGIN:VCALENDAR
VERSION:2.0
PRODID:-//rssny.org//NONSGML kigkonsult.se iCalcreator 2.30.10//
CALSCALE:GREGORIAN
METHOD:PUBLISH
UID:1ed91161-a83a-44af-b425-937867c502bd
X-WR-CALDESC:Join us for breakfast at the Center!
X-WR-RELCALID:a6cf5a98983a54883beb31f389bbedfa
X-WR-TIMEZONE:America/New_York
BEGIN:VTIMEZONE
TZID:America/New_York
BEGIN:STANDARD
TZNAME:EST
DTSTART:20261101T020000
TZOFFSETFROM:-0400
TZOFFSETTO:-0500
RDATE:20271107T020000
END:STANDARD
BEGIN:DAYLIGHT
TZNAME:EDT
DTSTART:20260308T020000
TZOFFSETFROM:-0500
TZOFFSETTO:-0400
RDATE:20270314T020000
RDATE:20280312T020000
END:DAYLIGHT
END:VTIMEZONE
BEGIN:VEVENT
UID:f50ece9b-61d2-4950-a2a8-05dd2bf198c0
DTSTAMP:20260423T085253Z
DESCRIPTION:Join us for breakfast at the Center!
DTSTART;TZID=America/New_York:20261113T090000
DTEND;TZID=America/New_York:20261113T100000
LOCATION:
SUMMARY:Breakfast Club (In Center)
END:VEVENT
END:VCALENDAR
