BEGIN:VCALENDAR
VERSION:2.0
PRODID:-//rssny.org//NONSGML kigkonsult.se iCalcreator 2.30.10//
CALSCALE:GREGORIAN
METHOD:PUBLISH
UID:a4f111b2-dde9-4400-80bc-5fb8ace45f2f
X-WR-CALDESC:Pyotr Ilyich Tchaikovsky\, ballet Swan Lake\n
X-WR-RELCALID:dc15c3baee0b359f094e0a98f7c8d4ed
X-WR-TIMEZONE:America/New_York
BEGIN:VTIMEZONE
TZID:America/New_York
BEGIN:STANDARD
TZNAME:EST
DTSTART:20261101T020000
TZOFFSETFROM:-0400
TZOFFSETTO:-0500
RDATE:20271107T020000
END:STANDARD
BEGIN:DAYLIGHT
TZNAME:EDT
DTSTART:20260308T020000
TZOFFSETFROM:-0500
TZOFFSETTO:-0400
RDATE:20270314T020000
RDATE:20280312T020000
END:DAYLIGHT
END:VTIMEZONE
BEGIN:VEVENT
UID:30abfb4a-dec9-4301-9eb1-f4af5a20cc17
DTSTAMP:20260423T085750Z
DESCRIPTION:Pyotr Ilyich Tchaikovsky\, ballet Swan Lake\n
DTSTART;TZID=America/New_York:20261108T160000
DTEND;TZID=America/New_York:20261108T171500
LOCATION:https://rssny.org/music_appreciation.html
SUMMARY:Music Appreciation with Diana: Pyotr Ilyich Tchaikovsky\, ballet Sw
 an Lake (Online)
END:VEVENT
END:VCALENDAR
