BEGIN:VCALENDAR
VERSION:2.0
PRODID:-//rssny.org//NONSGML kigkonsult.se iCalcreator 2.30.10//
CALSCALE:GREGORIAN
METHOD:PUBLISH
UID:615508dc-1b34-4463-bb04-c62becaf4e3e
X-WR-CALDESC:Join us for breakfast at the Center!
X-WR-RELCALID:01142f11e75df967a091407b0f2d99d3
X-WR-TIMEZONE:America/New_York
BEGIN:VTIMEZONE
TZID:America/New_York
BEGIN:STANDARD
TZNAME:EST
DTSTART:20251102T020000
TZOFFSETFROM:-0400
TZOFFSETTO:-0500
RDATE:20261101T020000
RDATE:20271107T020000
END:STANDARD
BEGIN:DAYLIGHT
TZNAME:EDT
DTSTART:20260308T020000
TZOFFSETFROM:-0500
TZOFFSETTO:-0400
RDATE:20270314T020000
RDATE:20280312T020000
END:DAYLIGHT
END:VTIMEZONE
BEGIN:VEVENT
UID:6784a268-1e16-498b-b4b8-7dca91bbe311
DTSTAMP:20260421T100606Z
DESCRIPTION:Join us for breakfast at the Center!
DTSTART;TZID=America/New_York:20261023T090000
DTEND;TZID=America/New_York:20261023T100000
LOCATION:
SUMMARY:Breakfast Club (In Center)
END:VEVENT
END:VCALENDAR
