BEGIN:VCALENDAR
VERSION:2.0
PRODID:-//rssny.org//NONSGML kigkonsult.se iCalcreator 2.30.10//
CALSCALE:GREGORIAN
METHOD:PUBLISH
UID:23e56c72-4f2c-4558-9b3c-fe852edd13ee
X-WR-CALDESC:Join us for breakfast at the Center!
X-WR-RELCALID:780a3371de56929bcfbffc5972feb1d2
X-WR-TIMEZONE:America/New_York
BEGIN:VTIMEZONE
TZID:America/New_York
BEGIN:STANDARD
TZNAME:EST
DTSTART:20251102T020000
TZOFFSETFROM:-0400
TZOFFSETTO:-0500
RDATE:20261101T020000
RDATE:20271107T020000
END:STANDARD
BEGIN:DAYLIGHT
TZNAME:EDT
DTSTART:20260308T020000
TZOFFSETFROM:-0500
TZOFFSETTO:-0400
RDATE:20270314T020000
RDATE:20280312T020000
END:DAYLIGHT
END:VTIMEZONE
BEGIN:VEVENT
UID:48b780ad-8968-42fc-8423-3f8691c3e19e
DTSTAMP:20260421T100210Z
DESCRIPTION:Join us for breakfast at the Center!
DTSTART;TZID=America/New_York:20261016T090000
DTEND;TZID=America/New_York:20261016T100000
LOCATION:
SUMMARY:Breakfast Club (In Center)
END:VEVENT
END:VCALENDAR
