BEGIN:VCALENDAR
VERSION:2.0
PRODID:-//rssny.org//NONSGML kigkonsult.se iCalcreator 2.30.10//
CALSCALE:GREGORIAN
METHOD:PUBLISH
UID:f00c5507-770f-4b4a-8d4d-66fa257a04b8
X-WR-CALDESC:Join us for breakfast at the Center!
X-WR-RELCALID:6f872eef69b40060795bbb3546ab9d3c
X-WR-TIMEZONE:America/New_York
BEGIN:VTIMEZONE
TZID:America/New_York
BEGIN:STANDARD
TZNAME:EST
DTSTART:20251102T020000
TZOFFSETFROM:-0400
TZOFFSETTO:-0500
RDATE:20261101T020000
RDATE:20271107T020000
END:STANDARD
BEGIN:DAYLIGHT
TZNAME:EDT
DTSTART:20260308T020000
TZOFFSETFROM:-0500
TZOFFSETTO:-0400
RDATE:20270314T020000
RDATE:20280312T020000
END:DAYLIGHT
END:VTIMEZONE
BEGIN:VEVENT
UID:e5f9f2fd-632d-43b8-a133-db5f52f2b877
DTSTAMP:20260421T100700Z
DESCRIPTION:Join us for breakfast at the Center!
DTSTART;TZID=America/New_York:20261007T090000
DTEND;TZID=America/New_York:20261007T100000
LOCATION:
SUMMARY:Breakfast Club (In Center)
END:VEVENT
END:VCALENDAR
