BEGIN:VCALENDAR
VERSION:2.0
PRODID:-//rssny.org//NONSGML kigkonsult.se iCalcreator 2.30.10//
CALSCALE:GREGORIAN
METHOD:PUBLISH
UID:b69f985d-82ef-4a11-8910-8db2b525517e
X-WR-CALDESC:Join us for breakfast at the Center!
X-WR-RELCALID:ab9f724ba1343caec2061527dacc218c
X-WR-TIMEZONE:America/New_York
BEGIN:VTIMEZONE
TZID:America/New_York
BEGIN:STANDARD
TZNAME:EST
DTSTART:20251102T020000
TZOFFSETFROM:-0400
TZOFFSETTO:-0500
RDATE:20261101T020000
RDATE:20271107T020000
END:STANDARD
BEGIN:DAYLIGHT
TZNAME:EDT
DTSTART:20260308T020000
TZOFFSETFROM:-0500
TZOFFSETTO:-0400
RDATE:20270314T020000
RDATE:20280312T020000
END:DAYLIGHT
END:VTIMEZONE
BEGIN:VEVENT
UID:24e9f2c8-1d21-4f77-af19-5bb9160a3e9b
DTSTAMP:20260421T100210Z
DESCRIPTION:Join us for breakfast at the Center!
DTSTART;TZID=America/New_York:20261002T090000
DTEND;TZID=America/New_York:20261002T100000
LOCATION:
SUMMARY:Breakfast Club (In Center)
END:VEVENT
END:VCALENDAR
