BEGIN:VCALENDAR
VERSION:2.0
PRODID:-//rssny.org//NONSGML kigkonsult.se iCalcreator 2.30.10//
CALSCALE:GREGORIAN
METHOD:PUBLISH
UID:5a9c8224-7589-404a-a659-82ccc2d77a0e
X-WR-CALDESC:Join us for breakfast at the Center!
X-WR-RELCALID:a715a8bfe2e9451ee4e6edf8e9761f90
X-WR-TIMEZONE:America/New_York
BEGIN:VTIMEZONE
TZID:America/New_York
BEGIN:STANDARD
TZNAME:EST
DTSTART:20251102T020000
TZOFFSETFROM:-0400
TZOFFSETTO:-0500
RDATE:20261101T020000
RDATE:20271107T020000
END:STANDARD
BEGIN:DAYLIGHT
TZNAME:EDT
DTSTART:20260308T020000
TZOFFSETFROM:-0500
TZOFFSETTO:-0400
RDATE:20270314T020000
RDATE:20280312T020000
END:DAYLIGHT
END:VTIMEZONE
BEGIN:VEVENT
UID:4620ff48-a3e6-45f2-9d0c-19ddf6f9d38e
DTSTAMP:20260421T082006Z
DESCRIPTION:Join us for breakfast at the Center!
DTSTART;TZID=America/New_York:20260921T090000
DTEND;TZID=America/New_York:20260921T100000
LOCATION:
SUMMARY:Breakfast Club (In Center)
END:VEVENT
END:VCALENDAR
