BEGIN:VCALENDAR
VERSION:2.0
PRODID:-//rssny.org//NONSGML kigkonsult.se iCalcreator 2.30.10//
CALSCALE:GREGORIAN
METHOD:PUBLISH
UID:5da13446-91b9-4ed6-a288-ccf65eeeb53e
X-WR-CALDESC:Join us for breakfast at the Center!
X-WR-RELCALID:cf262e4f41750b59ffd8fc355aea2a13
X-WR-TIMEZONE:America/New_York
BEGIN:VTIMEZONE
TZID:America/New_York
BEGIN:STANDARD
TZNAME:EST
DTSTART:20251102T020000
TZOFFSETFROM:-0400
TZOFFSETTO:-0500
RDATE:20261101T020000
RDATE:20271107T020000
END:STANDARD
BEGIN:DAYLIGHT
TZNAME:EDT
DTSTART:20260308T020000
TZOFFSETFROM:-0500
TZOFFSETTO:-0400
RDATE:20270314T020000
END:DAYLIGHT
END:VTIMEZONE
BEGIN:VEVENT
UID:ca240a63-5ba8-439f-bed9-2069dda413b1
DTSTAMP:20260421T084951Z
DESCRIPTION:Join us for breakfast at the Center!
DTSTART;TZID=America/New_York:20260907T090000
DTEND;TZID=America/New_York:20260907T100000
LOCATION:
SUMMARY:Breakfast Club (In Center)
END:VEVENT
END:VCALENDAR
