BEGIN:VCALENDAR
VERSION:2.0
PRODID:-//rssny.org//NONSGML kigkonsult.se iCalcreator 2.30.10//
CALSCALE:GREGORIAN
METHOD:PUBLISH
UID:8f337454-db8b-48ed-b07a-f3c29460ec53
X-WR-CALDESC:Join us for breakfast at the Center!
X-WR-RELCALID:a7ec0a014bacb3844eb711d2b47a98e3
X-WR-TIMEZONE:America/New_York
BEGIN:VTIMEZONE
TZID:America/New_York
BEGIN:STANDARD
TZNAME:EST
DTSTART:20251102T020000
TZOFFSETFROM:-0400
TZOFFSETTO:-0500
RDATE:20261101T020000
RDATE:20271107T020000
END:STANDARD
BEGIN:DAYLIGHT
TZNAME:EDT
DTSTART:20260308T020000
TZOFFSETFROM:-0500
TZOFFSETTO:-0400
RDATE:20270314T020000
END:DAYLIGHT
END:VTIMEZONE
BEGIN:VEVENT
UID:090527d9-6f64-4812-b81e-ea2c348dc6f7
DTSTAMP:20260421T064555Z
DESCRIPTION:Join us for breakfast at the Center!
DTSTART;TZID=America/New_York:20260819T090000
DTEND;TZID=America/New_York:20260819T100000
LOCATION:
SUMMARY:Breakfast Club (In Center)
END:VEVENT
END:VCALENDAR
