BEGIN:VCALENDAR
VERSION:2.0
PRODID:-//rssny.org//NONSGML kigkonsult.se iCalcreator 2.30.10//
CALSCALE:GREGORIAN
METHOD:PUBLISH
UID:23e5c1c7-e3d7-4352-b90d-a4c02c1b5772
X-WR-CALDESC:
X-WR-RELCALID:869118de452e1befe40370150a55c072
X-WR-TIMEZONE:America/New_York
BEGIN:VTIMEZONE
TZID:America/New_York
BEGIN:STANDARD
TZNAME:EST
DTSTART:20251102T020000
TZOFFSETFROM:-0400
TZOFFSETTO:-0500
RDATE:20261101T020000
RDATE:20271107T020000
END:STANDARD
BEGIN:DAYLIGHT
TZNAME:EDT
DTSTART:20260308T020000
TZOFFSETFROM:-0500
TZOFFSETTO:-0400
RDATE:20270314T020000
END:DAYLIGHT
END:VTIMEZONE
BEGIN:VEVENT
UID:b241ea3f-b6dc-42da-a169-7906b79d66e4
DTSTAMP:20260421T065132Z
DESCRIPTION:
DTSTART;TZID=America/New_York:20260818T130000
DTEND;TZID=America/New_York:20260818T140000
LOCATION:
SUMMARY:Advisory Council Meeting (In Person - Council members only)
END:VEVENT
END:VCALENDAR
