BEGIN:VCALENDAR
VERSION:2.0
PRODID:-//rssny.org//NONSGML kigkonsult.se iCalcreator 2.30.10//
CALSCALE:GREGORIAN
METHOD:PUBLISH
UID:fc3a74ac-a915-4b9e-8379-a67c1e8df265
X-WR-CALDESC:Join us for breakfast at the Center!
X-WR-RELCALID:4fc9c3e96cf90194cc7b483c6abfe214
X-WR-TIMEZONE:America/New_York
BEGIN:VTIMEZONE
TZID:America/New_York
BEGIN:STANDARD
TZNAME:EST
DTSTART:20251102T020000
TZOFFSETFROM:-0400
TZOFFSETTO:-0500
RDATE:20261101T020000
RDATE:20271107T020000
END:STANDARD
BEGIN:DAYLIGHT
TZNAME:EDT
DTSTART:20260308T020000
TZOFFSETFROM:-0500
TZOFFSETTO:-0400
RDATE:20270314T020000
END:DAYLIGHT
END:VTIMEZONE
BEGIN:VEVENT
UID:834d7277-af94-4468-bc1a-68c1d4f135e8
DTSTAMP:20260421T064357Z
DESCRIPTION:Join us for breakfast at the Center!
DTSTART;TZID=America/New_York:20260817T090000
DTEND;TZID=America/New_York:20260817T100000
LOCATION:
SUMMARY:Breakfast Club (In Center)
END:VEVENT
END:VCALENDAR
