BEGIN:VCALENDAR
VERSION:2.0
PRODID:-//rssny.org//NONSGML kigkonsult.se iCalcreator 2.30.10//
CALSCALE:GREGORIAN
METHOD:PUBLISH
UID:739b6ac7-8b31-4691-8a77-974aec23d9ba
X-WR-CALDESC:Claude Debussy\, French composer\n
X-WR-RELCALID:a410cf7117cb1f694d934951dba0cafc
X-WR-TIMEZONE:America/New_York
BEGIN:VTIMEZONE
TZID:America/New_York
BEGIN:STANDARD
TZNAME:EST
DTSTART:20251102T020000
TZOFFSETFROM:-0400
TZOFFSETTO:-0500
RDATE:20261101T020000
RDATE:20271107T020000
END:STANDARD
BEGIN:DAYLIGHT
TZNAME:EDT
DTSTART:20260308T020000
TZOFFSETFROM:-0500
TZOFFSETTO:-0400
RDATE:20270314T020000
END:DAYLIGHT
END:VTIMEZONE
BEGIN:VEVENT
UID:ac400a86-9e59-40d3-8532-117c0c9d42eb
DTSTAMP:20260421T065121Z
DESCRIPTION:Claude Debussy\, French composer\n
DTSTART;TZID=America/New_York:20260802T160000
DTEND;TZID=America/New_York:20260802T171500
LOCATION:https://rssny.org/music_appreciation.html
SUMMARY:Music Appreciation with Diana: Claude Debussy\, French composer (On
 line)
END:VEVENT
END:VCALENDAR
