BEGIN:VCALENDAR
VERSION:2.0
PRODID:-//rssny.org//NONSGML kigkonsult.se iCalcreator 2.30.10//
CALSCALE:GREGORIAN
METHOD:PUBLISH
UID:7c0a6dfc-1cbd-4878-94c1-e8c479da93cb
X-WR-CALDESC:Join us for breakfast at the Center!
X-WR-RELCALID:bb9193b74d08a54995c3a019ce0440a2
X-WR-TIMEZONE:America/New_York
BEGIN:VTIMEZONE
TZID:America/New_York
BEGIN:STANDARD
TZNAME:EST
DTSTART:20251102T020000
TZOFFSETFROM:-0400
TZOFFSETTO:-0500
RDATE:20261101T020000
RDATE:20271107T020000
END:STANDARD
BEGIN:DAYLIGHT
TZNAME:EDT
DTSTART:20260308T020000
TZOFFSETFROM:-0500
TZOFFSETTO:-0400
RDATE:20270314T020000
END:DAYLIGHT
END:VTIMEZONE
BEGIN:VEVENT
UID:dbc6ddfe-2958-4e1c-892e-09189c454805
DTSTAMP:20260421T050651Z
DESCRIPTION:Join us for breakfast at the Center!
DTSTART;TZID=America/New_York:20260727T090000
DTEND;TZID=America/New_York:20260727T100000
LOCATION:
SUMMARY:Breakfast Club (In Center)
END:VEVENT
END:VCALENDAR
