BEGIN:VCALENDAR
VERSION:2.0
PRODID:-//rssny.org//NONSGML kigkonsult.se iCalcreator 2.30.10//
CALSCALE:GREGORIAN
METHOD:PUBLISH
UID:96962508-ea03-4e2c-9d62-6a2691f8d008
X-WR-CALDESC:Join us for breakfast at the Center!
X-WR-RELCALID:6154b192f836804846bfe64c6b1e1042
X-WR-TIMEZONE:America/New_York
BEGIN:VTIMEZONE
TZID:America/New_York
BEGIN:STANDARD
TZNAME:EST
DTSTART:20251102T020000
TZOFFSETFROM:-0400
TZOFFSETTO:-0500
RDATE:20261101T020000
RDATE:20271107T020000
END:STANDARD
BEGIN:DAYLIGHT
TZNAME:EDT
DTSTART:20260308T020000
TZOFFSETFROM:-0500
TZOFFSETTO:-0400
RDATE:20270314T020000
END:DAYLIGHT
END:VTIMEZONE
BEGIN:VEVENT
UID:aa83b7ea-ec6d-48ae-a4d5-15992d674b54
DTSTAMP:20260421T050926Z
DESCRIPTION:Join us for breakfast at the Center!
DTSTART;TZID=America/New_York:20260715T090000
DTEND;TZID=America/New_York:20260715T100000
LOCATION:
SUMMARY:Breakfast Club (In Center)
END:VEVENT
END:VCALENDAR
