BEGIN:VCALENDAR
VERSION:2.0
PRODID:-//rssny.org//NONSGML kigkonsult.se iCalcreator 2.30.10//
CALSCALE:GREGORIAN
METHOD:PUBLISH
UID:fed62368-2f2e-4d9e-9363-bcfcdcc60bc0
X-WR-CALDESC:It is an unfortunate fact that we need to be prepared for all 
 scenarios include active shooter drills. Join the New York Citizens Prepar
 edness Training Program to learn what you can do in the event of an active
  shooter. \n\nYou must register to attend.
X-WR-RELCALID:7ec76a26ca302be9f1dbf1bbc59270e2
X-WR-TIMEZONE:America/New_York
BEGIN:VTIMEZONE
TZID:America/New_York
BEGIN:STANDARD
TZNAME:EST
DTSTART:20251102T020000
TZOFFSETFROM:-0400
TZOFFSETTO:-0500
RDATE:20261101T020000
RDATE:20271107T020000
END:STANDARD
BEGIN:DAYLIGHT
TZNAME:EDT
DTSTART:20260308T020000
TZOFFSETFROM:-0500
TZOFFSETTO:-0400
RDATE:20270314T020000
END:DAYLIGHT
END:VTIMEZONE
BEGIN:VEVENT
UID:95747a02-4489-4af1-8d35-fdd51464aee7
DTSTAMP:20260421T050620Z
DESCRIPTION:It is an unfortunate fact that we need to be prepared for all s
 cenarios include active shooter drills. Join the New York Citizens Prepare
 dness Training Program to learn what you can do in the event of an active 
 shooter. \n\nYou must register to attend.
DTSTART;TZID=America/New_York:20260710T131500
DTEND;TZID=America/New_York:20260710T141500
LOCATION:
SUMMARY:PLACEHOLDER: Emergency Preparedness: Random Shooter (In Center)
END:VEVENT
END:VCALENDAR
