BEGIN:VCALENDAR
VERSION:2.0
PRODID:-//rssny.org//NONSGML kigkonsult.se iCalcreator 2.30.10//
CALSCALE:GREGORIAN
METHOD:PUBLISH
UID:7493f49d-b82d-4a30-a8de-aed0e5f879a6
X-WR-CALDESC:
X-WR-RELCALID:e7944f5d92b149ccfe92f66edf39fd97
X-WR-TIMEZONE:America/New_York
BEGIN:VTIMEZONE
TZID:America/New_York
BEGIN:STANDARD
TZNAME:EST
DTSTART:20251102T020000
TZOFFSETFROM:-0400
TZOFFSETTO:-0500
RDATE:20261101T020000
RDATE:20271107T020000
END:STANDARD
BEGIN:DAYLIGHT
TZNAME:EDT
DTSTART:20260308T020000
TZOFFSETFROM:-0500
TZOFFSETTO:-0400
RDATE:20270314T020000
END:DAYLIGHT
END:VTIMEZONE
BEGIN:VEVENT
UID:ff098cc5-cc1a-4f7e-a50e-a9119b7c5a28
DTSTAMP:20260420T233252Z
DESCRIPTION:
DTSTART;TZID=America/New_York:20260618T110000
DTEND;TZID=America/New_York:20260618T120000
LOCATION:
SUMMARY:Folk Dancing - IN CENTER
END:VEVENT
END:VCALENDAR
