BEGIN:VCALENDAR
VERSION:2.0
PRODID:-//rssny.org//NONSGML kigkonsult.se iCalcreator 2.30.10//
CALSCALE:GREGORIAN
METHOD:PUBLISH
UID:2d3cb2f9-a079-40af-ae67-fcaf13e63e62
X-WR-CALDESC:
X-WR-RELCALID:ae4a3a23a8671fe1f03a4de4477bcbb0
X-WR-TIMEZONE:America/New_York
BEGIN:VTIMEZONE
TZID:America/New_York
BEGIN:STANDARD
TZNAME:EST
DTSTART:20251102T020000
TZOFFSETFROM:-0400
TZOFFSETTO:-0500
RDATE:20261101T020000
RDATE:20271107T020000
END:STANDARD
BEGIN:DAYLIGHT
TZNAME:EDT
DTSTART:20260308T020000
TZOFFSETFROM:-0500
TZOFFSETTO:-0400
RDATE:20270314T020000
END:DAYLIGHT
END:VTIMEZONE
BEGIN:VEVENT
UID:bdc03d13-cac4-4244-8ddd-15864fa3d28f
DTSTAMP:20260420T234829Z
DESCRIPTION:
DTSTART;TZID=America/New_York:20260616T130000
DTEND;TZID=America/New_York:20260616T140000
LOCATION:
SUMMARY:Advisory Council Meeting (In Person - Council members only)
END:VEVENT
END:VCALENDAR
