BEGIN:VCALENDAR
VERSION:2.0
PRODID:-//rssny.org//NONSGML kigkonsult.se iCalcreator 2.30.10//
CALSCALE:GREGORIAN
METHOD:PUBLISH
UID:f359927c-2dfc-4fb8-acb0-7ef83dac1bf2
X-WR-CALDESC:Weekly non-competitive bridge game
X-WR-RELCALID:36a423811e8d6851944c8863d61539b4
X-WR-TIMEZONE:America/New_York
BEGIN:VTIMEZONE
TZID:America/New_York
BEGIN:STANDARD
TZNAME:EST
DTSTART:20251102T020000
TZOFFSETFROM:-0400
TZOFFSETTO:-0500
RDATE:20261101T020000
RDATE:20271107T020000
END:STANDARD
BEGIN:DAYLIGHT
TZNAME:EDT
DTSTART:20260308T020000
TZOFFSETFROM:-0500
TZOFFSETTO:-0400
RDATE:20270314T020000
END:DAYLIGHT
END:VTIMEZONE
BEGIN:VEVENT
UID:a203b140-58ff-467e-8c47-97aa3b01e75d
DTSTAMP:20260420T233735Z
DESCRIPTION:Weekly non-competitive bridge game
DTSTART;TZID=America/New_York:20260612T131500
DTEND;TZID=America/New_York:20260612T163000
LOCATION:
SUMMARY:Leisure Games Bridge (In Center)
END:VEVENT
END:VCALENDAR
