BEGIN:VCALENDAR
VERSION:2.0
PRODID:-//rssny.org//NONSGML kigkonsult.se iCalcreator 2.30.10//
CALSCALE:GREGORIAN
METHOD:PUBLISH
UID:bce16113-6f23-4cd2-b81c-24632e0b1826
X-WR-CALDESC:This class is in the center.\n\nLevel: Beginner
X-WR-RELCALID:98a4407ef9a643cffc53917e0905c59e
X-WR-TIMEZONE:America/New_York
BEGIN:VTIMEZONE
TZID:America/New_York
BEGIN:STANDARD
TZNAME:EST
DTSTART:20251102T020000
TZOFFSETFROM:-0400
TZOFFSETTO:-0500
RDATE:20261101T020000
RDATE:20271107T020000
END:STANDARD
BEGIN:DAYLIGHT
TZNAME:EDT
DTSTART:20260308T020000
TZOFFSETFROM:-0500
TZOFFSETTO:-0400
RDATE:20270314T020000
END:DAYLIGHT
END:VTIMEZONE
BEGIN:VEVENT
UID:86269172-0e7d-4fb8-9115-ed2ed92268b4
DTSTAMP:20260420T234132Z
DESCRIPTION:This class is in the center.\n\nLevel: Beginner
DTSTART;TZID=America/New_York:20260609T130000
DTEND;TZID=America/New_York:20260609T140000
LOCATION:
SUMMARY:Technology Group Training with Caroline (IN CENTER)
END:VEVENT
END:VCALENDAR
