BEGIN:VCALENDAR
VERSION:2.0
PRODID:-//rssny.org//NONSGML kigkonsult.se iCalcreator 2.30.10//
CALSCALE:GREGORIAN
METHOD:PUBLISH
UID:71f7db12-f540-41f6-9ce9-f46440170647
X-WR-CALDESC:Weekly non-competitive bridge game
X-WR-RELCALID:b9e31e6c02e53274cd3d7df5c4f704eb
X-WR-TIMEZONE:America/New_York
BEGIN:VTIMEZONE
TZID:America/New_York
BEGIN:STANDARD
TZNAME:EST
DTSTART:20251102T020000
TZOFFSETFROM:-0400
TZOFFSETTO:-0500
RDATE:20261101T020000
RDATE:20271107T020000
END:STANDARD
BEGIN:DAYLIGHT
TZNAME:EDT
DTSTART:20260308T020000
TZOFFSETFROM:-0500
TZOFFSETTO:-0400
RDATE:20270314T020000
END:DAYLIGHT
END:VTIMEZONE
BEGIN:VEVENT
UID:4789f6d4-6fdd-45ed-a2b2-a104cc8afd5c
DTSTAMP:20260420T233714Z
DESCRIPTION:Weekly non-competitive bridge game
DTSTART;TZID=America/New_York:20260605T131500
DTEND;TZID=America/New_York:20260605T163000
LOCATION:
SUMMARY:Leisure Games Bridge (In Center)
END:VEVENT
END:VCALENDAR
