BEGIN:VCALENDAR
VERSION:2.0
PRODID:-//rssny.org//NONSGML kigkonsult.se iCalcreator 2.30.10//
CALSCALE:GREGORIAN
METHOD:PUBLISH
UID:83549c12-b02f-4ef0-a5af-73d88889dbfc
X-WR-CALDESC:Weekly non-competitive bridge game
X-WR-RELCALID:2d2b49b6ecd825b94c09ed18a3bfdbf6
X-WR-TIMEZONE:America/New_York
BEGIN:VTIMEZONE
TZID:America/New_York
BEGIN:STANDARD
TZNAME:EST
DTSTART:20251102T020000
TZOFFSETFROM:-0400
TZOFFSETTO:-0500
RDATE:20261101T020000
RDATE:20271107T020000
END:STANDARD
BEGIN:DAYLIGHT
TZNAME:EDT
DTSTART:20260308T020000
TZOFFSETFROM:-0500
TZOFFSETTO:-0400
RDATE:20270314T020000
END:DAYLIGHT
END:VTIMEZONE
BEGIN:VEVENT
UID:f0261b19-38ed-46e0-a940-9b6e9f18d45b
DTSTAMP:20260420T214716Z
DESCRIPTION:Weekly non-competitive bridge game
DTSTART;TZID=America/New_York:20260529T131500
DTEND;TZID=America/New_York:20260529T163000
LOCATION:
SUMMARY:Leisure Games Bridge (In Center)
END:VEVENT
END:VCALENDAR
