BEGIN:VCALENDAR
VERSION:2.0
PRODID:-//rssny.org//NONSGML kigkonsult.se iCalcreator 2.30.10//
CALSCALE:GREGORIAN
METHOD:PUBLISH
UID:b85172c0-1f14-48fc-9598-b42407c07e25
X-WR-CALDESC:Join us for breakfast at the Center!
X-WR-RELCALID:f84951640adf8ebe114bfbcb0f74102a
X-WR-TIMEZONE:America/New_York
BEGIN:VTIMEZONE
TZID:America/New_York
BEGIN:STANDARD
TZNAME:EST
DTSTART:20251102T020000
TZOFFSETFROM:-0400
TZOFFSETTO:-0500
RDATE:20261101T020000
RDATE:20271107T020000
END:STANDARD
BEGIN:DAYLIGHT
TZNAME:EDT
DTSTART:20260308T020000
TZOFFSETFROM:-0500
TZOFFSETTO:-0400
RDATE:20270314T020000
END:DAYLIGHT
END:VTIMEZONE
BEGIN:VEVENT
UID:b5ebfd07-6109-454c-bb61-052f738311d2
DTSTAMP:20260420T214251Z
DESCRIPTION:Join us for breakfast at the Center!
DTSTART;TZID=America/New_York:20260529T090000
DTEND;TZID=America/New_York:20260529T100000
LOCATION:
SUMMARY:Breakfast Club (In Center)
END:VEVENT
END:VCALENDAR
