BEGIN:VCALENDAR
VERSION:2.0
PRODID:-//rssny.org//NONSGML kigkonsult.se iCalcreator 2.30.10//
CALSCALE:GREGORIAN
METHOD:PUBLISH
UID:3fd21db5-6427-4b5c-a36b-a1e02f76cbfb
X-WR-CALDESC:To register: https://airtable.com/appXGCAC8Qle5hwrm/shrO59MUIS
 ZyYYJ7D
X-WR-RELCALID:0940989e2908ead9f733b72572523408
X-WR-TIMEZONE:America/New_York
BEGIN:VTIMEZONE
TZID:America/New_York
BEGIN:STANDARD
TZNAME:EST
DTSTART:20251102T020000
TZOFFSETFROM:-0400
TZOFFSETTO:-0500
RDATE:20261101T020000
RDATE:20271107T020000
END:STANDARD
BEGIN:DAYLIGHT
TZNAME:EDT
DTSTART:20260308T020000
TZOFFSETFROM:-0500
TZOFFSETTO:-0400
RDATE:20270314T020000
END:DAYLIGHT
END:VTIMEZONE
BEGIN:VEVENT
UID:19051a2a-a8c9-4259-84cd-8d78f6dbbeae
DTSTAMP:20260420T215042Z
DESCRIPTION:To register: https://airtable.com/appXGCAC8Qle5hwrm/shrO59MUISZ
 yYYJ7D
DTSTART;TZID=America/New_York:20260527T130000
DTEND;TZID=America/New_York:20260527T140000
LOCATION:https://airtable.com/appXGCAC8Qle5hwrm/shrO59MUISZyYYJ7D
SUMMARY:Concerts in Motion: Chinese (This is not an RSS event)
END:VEVENT
END:VCALENDAR
