BEGIN:VCALENDAR
VERSION:2.0
PRODID:-//rssny.org//NONSGML kigkonsult.se iCalcreator 2.30.10//
CALSCALE:GREGORIAN
METHOD:PUBLISH
UID:49d332a9-edff-4f36-9ac8-8106b05c0a47
X-WR-CALDESC:
X-WR-RELCALID:9e9ba02642c95fd771f4be2859826e24
X-WR-TIMEZONE:America/New_York
BEGIN:VTIMEZONE
TZID:America/New_York
BEGIN:STANDARD
TZNAME:EST
DTSTART:20251102T020000
TZOFFSETFROM:-0400
TZOFFSETTO:-0500
RDATE:20261101T020000
RDATE:20271107T020000
END:STANDARD
BEGIN:DAYLIGHT
TZNAME:EDT
DTSTART:20260308T020000
TZOFFSETFROM:-0500
TZOFFSETTO:-0400
RDATE:20270314T020000
END:DAYLIGHT
END:VTIMEZONE
BEGIN:VEVENT
UID:11b1ec84-41fc-4e81-9791-98795f0c200b
DTSTAMP:20260420T214321Z
DESCRIPTION:
DTSTART;TZID=America/New_York:20260525T060000
DTEND;TZID=America/New_York:20260525T060001
LOCATION:
SUMMARY:CENTER CLOSED - Memorial DAy
END:VEVENT
END:VCALENDAR
