BEGIN:VCALENDAR
VERSION:2.0
PRODID:-//rssny.org//NONSGML kigkonsult.se iCalcreator 2.30.10//
CALSCALE:GREGORIAN
METHOD:PUBLISH
UID:e119c9eb-2132-4208-841b-25b1dfbe3bd5
X-WR-CALDESC:Weekly non-competitive bridge game
X-WR-RELCALID:ec08c850837d96612804d61a593d32d1
X-WR-TIMEZONE:America/New_York
BEGIN:VTIMEZONE
TZID:America/New_York
BEGIN:STANDARD
TZNAME:EST
DTSTART:20251102T020000
TZOFFSETFROM:-0400
TZOFFSETTO:-0500
RDATE:20261101T020000
RDATE:20271107T020000
END:STANDARD
BEGIN:DAYLIGHT
TZNAME:EDT
DTSTART:20260308T020000
TZOFFSETFROM:-0500
TZOFFSETTO:-0400
RDATE:20270314T020000
END:DAYLIGHT
END:VTIMEZONE
BEGIN:VEVENT
UID:aa86b52f-f048-4270-8f86-ce8986d9c3c6
DTSTAMP:20260420T214653Z
DESCRIPTION:Weekly non-competitive bridge game
DTSTART;TZID=America/New_York:20260522T131500
DTEND;TZID=America/New_York:20260522T163000
LOCATION:
SUMMARY:Leisure Games Bridge (In Center)
END:VEVENT
END:VCALENDAR
