BEGIN:VCALENDAR
VERSION:2.0
PRODID:-//rssny.org//NONSGML kigkonsult.se iCalcreator 2.30.10//
CALSCALE:GREGORIAN
METHOD:PUBLISH
UID:a8c89140-7061-4a93-ab11-f8fba521844b
X-WR-CALDESC:
X-WR-RELCALID:16ada9c0dcec79c921e9dd3da7627f0a
X-WR-TIMEZONE:America/New_York
BEGIN:VTIMEZONE
TZID:America/New_York
BEGIN:STANDARD
TZNAME:EST
DTSTART:20251102T020000
TZOFFSETFROM:-0400
TZOFFSETTO:-0500
RDATE:20261101T020000
END:STANDARD
BEGIN:DAYLIGHT
TZNAME:EDT
DTSTART:20260308T020000
TZOFFSETFROM:-0500
TZOFFSETTO:-0400
RDATE:20270314T020000
END:DAYLIGHT
END:VTIMEZONE
BEGIN:VEVENT
UID:4baaab48-eebc-4e94-ad97-f8edf49335ee
DTSTAMP:20260420T195857Z
DESCRIPTION:
DTSTART;TZID=America/New_York:20260429T144500
DTEND;TZID=America/New_York:20260429T161500
LOCATION:
SUMMARY:Movies In Center
END:VEVENT
END:VCALENDAR
