BEGIN:VCALENDAR
VERSION:2.0
PRODID:-//rssny.org//NONSGML kigkonsult.se iCalcreator 2.30.10//
CALSCALE:GREGORIAN
METHOD:PUBLISH
UID:2b1eaeea-24e0-4dee-a0f4-2ead9c6e6131
X-WR-CALDESC:Filling in for Donald\, until his return to RSS\, is Social Wo
 rk Intern\, Cynthia Caceres.
X-WR-RELCALID:967136bd915e324e6eecddf93520af20
X-WR-TIMEZONE:America/New_York
BEGIN:VTIMEZONE
TZID:America/New_York
BEGIN:STANDARD
TZNAME:EST
DTSTART:20251102T020000
TZOFFSETFROM:-0400
TZOFFSETTO:-0500
RDATE:20261101T020000
END:STANDARD
BEGIN:DAYLIGHT
TZNAME:EDT
DTSTART:20260308T020000
TZOFFSETFROM:-0500
TZOFFSETTO:-0400
RDATE:20270314T020000
END:DAYLIGHT
END:VTIMEZONE
BEGIN:VEVENT
UID:2f7c1c04-3bbc-49ce-a92f-e4336fcbc0de
DTSTAMP:20260420T200113Z
DESCRIPTION:Filling in for Donald\, until his return to RSS\, is Social Wor
 k Intern\, Cynthia Caceres.
DTSTART;TZID=America/New_York:20260428T100000
DTEND;TZID=America/New_York:20260428T110000
LOCATION:
SUMMARY:Memoir Writing with Donald (In Center)
END:VEVENT
END:VCALENDAR
