BEGIN:VCALENDAR
VERSION:2.0
PRODID:-//rssny.org//NONSGML kigkonsult.se iCalcreator 2.30.10//
CALSCALE:GREGORIAN
METHOD:PUBLISH
UID:8d4de2ed-d2c4-4eb7-bbac-7ccd328419a1
X-WR-CALDESC:
X-WR-RELCALID:dab25cb0abb9bdbc682f5d1f83dae012
X-WR-TIMEZONE:America/New_York
BEGIN:VTIMEZONE
TZID:America/New_York
BEGIN:STANDARD
TZNAME:EST
DTSTART:20251102T020000
TZOFFSETFROM:-0400
TZOFFSETTO:-0500
RDATE:20261101T020000
END:STANDARD
BEGIN:DAYLIGHT
TZNAME:EDT
DTSTART:20260308T020000
TZOFFSETFROM:-0500
TZOFFSETTO:-0400
RDATE:20270314T020000
END:DAYLIGHT
END:VTIMEZONE
BEGIN:VEVENT
UID:af8e65b9-8423-4dbf-b7da-7f0dc32f3672
DTSTAMP:20260420T200112Z
DESCRIPTION:
DTSTART;TZID=America/New_York:20260422T130000
DTEND;TZID=America/New_York:20260422T150000
LOCATION:
SUMMARY:Movies In Center CANCELED
END:VEVENT
END:VCALENDAR
