BEGIN:VCALENDAR
VERSION:2.0
PRODID:-//rssny.org//NONSGML kigkonsult.se iCalcreator 2.30.10//
CALSCALE:GREGORIAN
METHOD:PUBLISH
UID:629481b0-b8f4-4329-87f4-6318cc4e61da
X-WR-CALDESC:Register here - https://airtable.com/appXGCAC8Qle5hwrm/shrO59M
 UISZyYYJ7D
X-WR-RELCALID:700e7fd5654f7c42a090d3862c43cf45
X-WR-TIMEZONE:America/New_York
BEGIN:VTIMEZONE
TZID:America/New_York
BEGIN:STANDARD
TZNAME:EST
DTSTART:20251102T020000
TZOFFSETFROM:-0400
TZOFFSETTO:-0500
RDATE:20261101T020000
END:STANDARD
BEGIN:DAYLIGHT
TZNAME:EDT
DTSTART:20260308T020000
TZOFFSETFROM:-0500
TZOFFSETTO:-0400
RDATE:20270314T020000
END:DAYLIGHT
END:VTIMEZONE
BEGIN:VEVENT
UID:27d72377-2344-48f5-92cd-a7e3c8675465
DTSTAMP:20260420T200409Z
DESCRIPTION:Register here - https://airtable.com/appXGCAC8Qle5hwrm/shrO59MU
 ISZyYYJ7D
DTSTART;TZID=America/New_York:20260414T120000
DTEND;TZID=America/New_York:20260414T130000
LOCATION:https://airtable.com/appXGCAC8Qle5hwrm/shrO59MUISZyYYJ7D
SUMMARY:Concerts in Motion: Songbook Tuesdays (This is not an RSS event)
END:VEVENT
END:VCALENDAR
