BEGIN:VCALENDAR
VERSION:2.0
PRODID:-//rssny.org//NONSGML kigkonsult.se iCalcreator 2.30.10//
CALSCALE:GREGORIAN
METHOD:PUBLISH
UID:e89091a7-98d9-4d55-969d-6eaa31d2e614
X-WR-CALDESC:Join the RSS Chorus and members of the MORE Opera Community Ch
 orus (https://www.moreopera.com) for a moving Holocaust Remembrance Concer
 t. Together\, we honor history through a powerful program of reflection\, 
 resilience\, and the enduring spirit of music.
X-WR-RELCALID:c120ab549bb90284f8d6d473b558b10b
X-WR-TIMEZONE:America/New_York
BEGIN:VTIMEZONE
TZID:America/New_York
BEGIN:STANDARD
TZNAME:EST
DTSTART:20251102T020000
TZOFFSETFROM:-0400
TZOFFSETTO:-0500
RDATE:20261101T020000
END:STANDARD
BEGIN:DAYLIGHT
TZNAME:EDT
DTSTART:20260308T020000
TZOFFSETFROM:-0500
TZOFFSETTO:-0400
RDATE:20270314T020000
END:DAYLIGHT
END:VTIMEZONE
BEGIN:VEVENT
UID:fcb29458-0e32-4b2c-aff0-60c0e9e9ff00
DTSTAMP:20260420T195709Z
DESCRIPTION:Join the RSS Chorus and members of the MORE Opera Community Cho
 rus (https://www.moreopera.com) for a moving Holocaust Remembrance Concert
 . Together\, we honor history through a powerful program of reflection\, r
 esilience\, and the enduring spirit of music.
DTSTART;TZID=America/New_York:20260409T131500
DTEND;TZID=America/New_York:20260409T141500
LOCATION:
SUMMARY:Chorus with Cheryl: Holocaust Remembrance Program (Hybrid)
END:VEVENT
END:VCALENDAR
