BEGIN:VCALENDAR
VERSION:2.0
PRODID:-//rssny.org//NONSGML kigkonsult.se iCalcreator 2.30.10//
CALSCALE:GREGORIAN
METHOD:PUBLISH
UID:c7f67e24-bf9d-4093-a404-aab4e0463763
X-WR-CALDESC:Join us for breakfast at the Center!
X-WR-RELCALID:1cf704e115043a2b2c36b626d5cb6508
X-WR-TIMEZONE:America/New_York
BEGIN:VTIMEZONE
TZID:America/New_York
BEGIN:STANDARD
TZNAME:EST
DTSTART:20251102T020000
TZOFFSETFROM:-0400
TZOFFSETTO:-0500
RDATE:20261101T020000
END:STANDARD
BEGIN:DAYLIGHT
TZNAME:EDT
DTSTART:20260308T020000
TZOFFSETFROM:-0500
TZOFFSETTO:-0400
RDATE:20270314T020000
END:DAYLIGHT
END:VTIMEZONE
BEGIN:VEVENT
UID:3654d0ba-8a9b-4ebe-8ab8-e4b00e08512a
DTSTAMP:20260420T195859Z
DESCRIPTION:Join us for breakfast at the Center!
DTSTART;TZID=America/New_York:20260408T090000
DTEND;TZID=America/New_York:20260408T100000
LOCATION:
SUMMARY:Breakfast Club (In Center)
END:VEVENT
END:VCALENDAR
