BEGIN:VCALENDAR
VERSION:2.0
PRODID:-//rssny.org//NONSGML kigkonsult.se iCalcreator 2.30.10//
CALSCALE:GREGORIAN
METHOD:PUBLISH
UID:6b61942f-c84d-4baf-b8ab-4c9baf41ad01
X-WR-CALDESC:Join us for a fun time and try out tap dancing\n\nNO prior dan
 ce experience or materials are needed.
X-WR-RELCALID:14396f23b524af52a731f836932f53c8
X-WR-TIMEZONE:America/New_York
BEGIN:VTIMEZONE
TZID:America/New_York
BEGIN:STANDARD
TZNAME:EST
DTSTART:20251102T020000
TZOFFSETFROM:-0400
TZOFFSETTO:-0500
RDATE:20261101T020000
END:STANDARD
BEGIN:DAYLIGHT
TZNAME:EDT
DTSTART:20260308T020000
TZOFFSETFROM:-0500
TZOFFSETTO:-0400
RDATE:20270314T020000
END:DAYLIGHT
END:VTIMEZONE
BEGIN:VEVENT
UID:66a5def3-8887-4029-9b08-89d15120293d
DTSTAMP:20260420T214552Z
DESCRIPTION:Join us for a fun time and try out tap dancing\n\nNO prior danc
 e experience or materials are needed.
DTSTART;TZID=America/New_York:20260330T110000
DTEND;TZID=America/New_York:20260330T120000
LOCATION:
SUMMARY:Tap Dancing with Maria (IN CENTER)
END:VEVENT
END:VCALENDAR
