BEGIN:VCALENDAR
VERSION:2.0
PRODID:-//rssny.org//NONSGML kigkonsult.se iCalcreator 2.30.10//
CALSCALE:GREGORIAN
METHOD:PUBLISH
UID:66f2b76c-9ac5-472d-a2f0-bf69c4bfeb30
X-WR-CALDESC:Join our webinar to learn about the early warning signs and sy
 mptoms\, diagnosis\, and treatment options available for chronic kidney di
 sease.\n\nCLICK TO JOIN THE MEETING: https://us02web.zoom.us/j/83590097138
 ?pwd=G4BPEJmhHLfiW9bl6RHerQTZyAbuc1.1#success\nMEETING ID: 835 9009 7138 
 \nPASCODE: 062510 \nPHONE #: 1-646-931-3860
X-WR-RELCALID:0f4f4b52c9c4fd91f07a556449188a1a
X-WR-TIMEZONE:America/New_York
BEGIN:VTIMEZONE
TZID:America/New_York
BEGIN:STANDARD
TZNAME:EST
DTSTART:20251102T020000
TZOFFSETFROM:-0400
TZOFFSETTO:-0500
RDATE:20261101T020000
END:STANDARD
BEGIN:DAYLIGHT
TZNAME:EDT
DTSTART:20260308T020000
TZOFFSETFROM:-0500
TZOFFSETTO:-0400
RDATE:20270314T020000
END:DAYLIGHT
END:VTIMEZONE
BEGIN:VEVENT
UID:60ee552f-42ef-4ce9-b21e-3b695bff4159
DTSTAMP:20260420T214911Z
DESCRIPTION:Join our webinar to learn about the early warning signs and sym
 ptoms\, diagnosis\, and treatment options available for chronic kidney dis
 ease.\n\nCLICK TO JOIN THE MEETING: https://us02web.zoom.us/j/83590097138?
 pwd=G4BPEJmhHLfiW9bl6RHerQTZyAbuc1.1#success\nMEETING ID: 835 9009 7138 \n
 PASCODE: 062510 \nPHONE #: 1-646-931-3860
DTSTART;TZID=America/New_York:20260327T100000
DTEND;TZID=America/New_York:20260327T110000
LOCATION:
SUMMARY:Understanding Chronic Kidney Disease with St. John's University (On
 line - Not an RSS Event)
END:VEVENT
END:VCALENDAR
