BEGIN:VCALENDAR
VERSION:2.0
PRODID:-//rssny.org//NONSGML kigkonsult.se iCalcreator 2.30.10//
CALSCALE:GREGORIAN
METHOD:PUBLISH
UID:6abf92e3-0b80-4abc-90e1-3aa08aa094e8
X-WR-CALDESC:Weekly non-competitive bridge game
X-WR-RELCALID:a1bfdfb2143edcf0d68124b716dab78e
X-WR-TIMEZONE:America/New_York
BEGIN:VTIMEZONE
TZID:America/New_York
BEGIN:STANDARD
TZNAME:EST
DTSTART:20251102T020000
TZOFFSETFROM:-0400
TZOFFSETTO:-0500
RDATE:20261101T020000
END:STANDARD
BEGIN:DAYLIGHT
TZNAME:EDT
DTSTART:20260308T020000
TZOFFSETFROM:-0500
TZOFFSETTO:-0400
RDATE:20270314T020000
END:DAYLIGHT
END:VTIMEZONE
BEGIN:VEVENT
UID:5e53317f-5d54-419b-9796-e96942af6a85
DTSTAMP:20260420T214459Z
DESCRIPTION:Weekly non-competitive bridge game
DTSTART;TZID=America/New_York:20260327T131500
DTEND;TZID=America/New_York:20260327T163000
LOCATION:
SUMMARY:Leisure Games Bridge (In Center)
END:VEVENT
END:VCALENDAR
