BEGIN:VCALENDAR
VERSION:2.0
PRODID:-//rssny.org//NONSGML kigkonsult.se iCalcreator 2.30.10//
CALSCALE:GREGORIAN
METHOD:PUBLISH
UID:1e9162bf-6676-4f4c-8513-8b7caa45be87
X-WR-CALDESC:This class is in the center.\n\nLevel: Beginner
X-WR-RELCALID:93fcc2939a6c92b866d068ea4df97f95
X-WR-TIMEZONE:America/New_York
BEGIN:VTIMEZONE
TZID:America/New_York
BEGIN:STANDARD
TZNAME:EST
DTSTART:20251102T020000
TZOFFSETFROM:-0400
TZOFFSETTO:-0500
RDATE:20261101T020000
END:STANDARD
BEGIN:DAYLIGHT
TZNAME:EDT
DTSTART:20260308T020000
TZOFFSETFROM:-0500
TZOFFSETTO:-0400
RDATE:20270314T020000
END:DAYLIGHT
END:VTIMEZONE
BEGIN:VEVENT
UID:78f7b3d0-1b5e-4eef-ac98-abc5e8b9a798
DTSTAMP:20260420T214846Z
DESCRIPTION:This class is in the center.\n\nLevel: Beginner
DTSTART;TZID=America/New_York:20260324T130000
DTEND;TZID=America/New_York:20260324T140000
LOCATION:
SUMMARY:Technology Group Training with Caroline: OMNY card (IN CENTER)
END:VEVENT
END:VCALENDAR
