BEGIN:VCALENDAR
VERSION:2.0
PRODID:-//rssny.org//NONSGML kigkonsult.se iCalcreator 2.30.10//
CALSCALE:GREGORIAN
METHOD:PUBLISH
UID:9908894d-cab5-44a5-bd18-879e934e362c
X-WR-CALDESC:To register: https://rssny.org/class-forms/health-talks.html\n
 \nJoin us at RSS for a presentation on Kidney Health with Montefiore.\n\n
X-WR-RELCALID:aaa28a55e6f5d792b278fc6db6fe1997
X-WR-TIMEZONE:America/New_York
BEGIN:VTIMEZONE
TZID:America/New_York
BEGIN:STANDARD
TZNAME:EST
DTSTART:20251102T020000
TZOFFSETFROM:-0400
TZOFFSETTO:-0500
RDATE:20261101T020000
END:STANDARD
BEGIN:DAYLIGHT
TZNAME:EDT
DTSTART:20260308T020000
TZOFFSETFROM:-0500
TZOFFSETTO:-0400
RDATE:20270314T020000
END:DAYLIGHT
END:VTIMEZONE
BEGIN:VEVENT
UID:3e80a903-684d-4a67-8e58-5e1e4b3b9b5c
DTSTAMP:20260420T214816Z
DESCRIPTION:To register: https://rssny.org/class-forms/health-talks.html\n
 \nJoin us at RSS for a presentation on Kidney Health with Montefiore.\n\n
DTSTART;TZID=America/New_York:20260320T131500
DTEND;TZID=America/New_York:20260320T141500
LOCATION:https://rssny.org/class-forms/health-talks.html
SUMMARY:Kidney Health Awareness with Montefiore (Hybrid)
END:VEVENT
END:VCALENDAR
