BEGIN:VCALENDAR
VERSION:2.0
PRODID:-//rssny.org//NONSGML kigkonsult.se iCalcreator 2.30.10//
CALSCALE:GREGORIAN
METHOD:PUBLISH
UID:f86dc405-bcf0-4e0a-aba6-a003af66b5ab
X-WR-CALDESC:Join Barbara Denson for a monthly workshop about all things pl
 ant-related. Each month will be something new\, whether learning about var
 ious plants and plant care or engaging in fun craft projects related to th
 em.
X-WR-RELCALID:a47afdeaad47dce4ea2eead22620daf8
X-WR-TIMEZONE:America/New_York
BEGIN:VTIMEZONE
TZID:America/New_York
BEGIN:STANDARD
TZNAME:EST
DTSTART:20251102T020000
TZOFFSETFROM:-0400
TZOFFSETTO:-0500
RDATE:20261101T020000
END:STANDARD
BEGIN:DAYLIGHT
TZNAME:EDT
DTSTART:20260308T020000
TZOFFSETFROM:-0500
TZOFFSETTO:-0400
RDATE:20270314T020000
END:DAYLIGHT
END:VTIMEZONE
BEGIN:VEVENT
UID:54dccf29-ca08-41a6-8ee8-bc600771a543
DTSTAMP:20260420T214544Z
DESCRIPTION:Join Barbara Denson for a monthly workshop about all things pla
 nt-related. Each month will be something new\, whether learning about vari
 ous plants and plant care or engaging in fun craft projects related to the
 m.
DTSTART;TZID=America/New_York:20260319T130000
DTEND;TZID=America/New_York:20260319T140000
LOCATION:
SUMMARY:Horticultural Wellness Workshops with Barbara (In House)
END:VEVENT
END:VCALENDAR
