BEGIN:VCALENDAR
VERSION:2.0
PRODID:-//rssny.org//NONSGML kigkonsult.se iCalcreator 2.30.10//
CALSCALE:GREGORIAN
METHOD:PUBLISH
UID:8d1b93fe-500c-454a-b9e0-5b7aab91334e
X-WR-CALDESC:To register: https://rssny.org/class-forms/chair-yoga-with-ani
 ta.html
X-WR-RELCALID:27ec678822b9ba0b52c63caf94d9d6c9
X-WR-TIMEZONE:America/New_York
BEGIN:VTIMEZONE
TZID:America/New_York
BEGIN:STANDARD
TZNAME:EST
DTSTART:20251102T020000
TZOFFSETFROM:-0400
TZOFFSETTO:-0500
RDATE:20261101T020000
END:STANDARD
BEGIN:DAYLIGHT
TZNAME:EDT
DTSTART:20260308T020000
TZOFFSETFROM:-0500
TZOFFSETTO:-0400
RDATE:20270314T020000
END:DAYLIGHT
END:VTIMEZONE
BEGIN:VEVENT
UID:79130990-212a-4167-a059-0d0735d623cf
DTSTAMP:20260420T215144Z
DESCRIPTION:To register: https://rssny.org/class-forms/chair-yoga-with-anit
 a.html
DTSTART;TZID=America/New_York:20260319T090000
DTEND;TZID=America/New_York:20260319T094500
LOCATION:https://rssny.org/class-forms/chair-yoga-with-anita.html
SUMMARY:Chair Yoga with Anita: Qi Yoga for the Nervous System (Online)
END:VEVENT
END:VCALENDAR
