BEGIN:VCALENDAR
VERSION:2.0
PRODID:-//rssny.org//NONSGML kigkonsult.se iCalcreator 2.30.10//
CALSCALE:GREGORIAN
METHOD:PUBLISH
UID:a86d947a-4a0f-4847-9883-583214e20077
X-WR-CALDESC:This class is in the center.\n\nLevel: Beginner
X-WR-RELCALID:26d721e0df5c4b99a5f1b79e7f4cc441
X-WR-TIMEZONE:America/New_York
BEGIN:VTIMEZONE
TZID:America/New_York
BEGIN:STANDARD
TZNAME:EST
DTSTART:20251102T020000
TZOFFSETFROM:-0400
TZOFFSETTO:-0500
RDATE:20261101T020000
END:STANDARD
BEGIN:DAYLIGHT
TZNAME:EDT
DTSTART:20260308T020000
TZOFFSETFROM:-0500
TZOFFSETTO:-0400
RDATE:20270314T020000
END:DAYLIGHT
END:VTIMEZONE
BEGIN:VEVENT
UID:15bd4ea6-de1a-47c9-a791-9233de4c2563
DTSTAMP:20260420T215015Z
DESCRIPTION:This class is in the center.\n\nLevel: Beginner
DTSTART;TZID=America/New_York:20260317T130000
DTEND;TZID=America/New_York:20260317T140000
LOCATION:
SUMMARY:Technology Group Training with Caroline: AI\, Bitcoin and Cryptocur
 rency\, and Scams (IN CENTER)
END:VEVENT
END:VCALENDAR
