BEGIN:VCALENDAR
VERSION:2.0
PRODID:-//rssny.org//NONSGML kigkonsult.se iCalcreator 2.30.10//
CALSCALE:GREGORIAN
METHOD:PUBLISH
UID:b4d0f5e5-cce3-4e64-9b23-ec8f203bdd24
X-WR-CALDESC:
X-WR-RELCALID:33df7ccf139cb01a417c9a159851cbc2
X-WR-TIMEZONE:America/New_York
BEGIN:VTIMEZONE
TZID:America/New_York
BEGIN:STANDARD
TZNAME:EST
DTSTART:20251102T020000
TZOFFSETFROM:-0400
TZOFFSETTO:-0500
RDATE:20261101T020000
END:STANDARD
BEGIN:DAYLIGHT
TZNAME:EDT
DTSTART:20260308T020000
TZOFFSETFROM:-0500
TZOFFSETTO:-0400
RDATE:20270314T020000
END:DAYLIGHT
END:VTIMEZONE
BEGIN:VEVENT
UID:5e95d99c-d0e3-4acf-b07f-99a054841870
DTSTAMP:20260420T214320Z
DESCRIPTION:
DTSTART;TZID=America/New_York:20260316T120000
DTEND;TZID=America/New_York:20260316T130000
LOCATION:2600 Netherland Avenue\, Bronx\, NY 10463 US
SUMMARY:Lunch In Center
END:VEVENT
END:VCALENDAR
