BEGIN:VCALENDAR
VERSION:2.0
PRODID:-//rssny.org//NONSGML kigkonsult.se iCalcreator 2.30.10//
CALSCALE:GREGORIAN
METHOD:PUBLISH
UID:74b03c55-9923-4a0d-b6c5-0eb210710100
X-WR-CALDESC:
X-WR-RELCALID:f059f3985c1977fe772f19889160e4e4
X-WR-TIMEZONE:America/New_York
BEGIN:VTIMEZONE
TZID:America/New_York
BEGIN:STANDARD
TZNAME:EST
DTSTART:20251102T020000
TZOFFSETFROM:-0400
TZOFFSETTO:-0500
RDATE:20261101T020000
END:STANDARD
BEGIN:DAYLIGHT
TZNAME:EDT
DTSTART:20260308T020000
TZOFFSETFROM:-0500
TZOFFSETTO:-0400
RDATE:20270314T020000
END:DAYLIGHT
END:VTIMEZONE
BEGIN:VEVENT
UID:2eafb376-a04a-4ce4-bdeb-6bfbe66acdb2
DTSTAMP:20260420T214418Z
DESCRIPTION:
DTSTART;TZID=America/New_York:20260311T130000
DTEND;TZID=America/New_York:20260311T150000
LOCATION:
SUMMARY:Movie: Bombshell: Made in Dagenham
END:VEVENT
END:VCALENDAR
