BEGIN:VCALENDAR
VERSION:2.0
PRODID:-//rssny.org//NONSGML kigkonsult.se iCalcreator 2.30.10//
CALSCALE:GREGORIAN
METHOD:PUBLISH
UID:55e2a3e7-d589-4932-b32d-f5066a746b9d
X-WR-CALDESC:
X-WR-RELCALID:e5458677dc3ad52aa96f6253689b4b46
X-WR-TIMEZONE:America/New_York
BEGIN:VTIMEZONE
TZID:America/New_York
BEGIN:STANDARD
TZNAME:EST
DTSTART:20251102T020000
TZOFFSETFROM:-0400
TZOFFSETTO:-0500
RDATE:20261101T020000
END:STANDARD
BEGIN:DAYLIGHT
TZNAME:EDT
DTSTART:20250309T020000
TZOFFSETFROM:-0500
TZOFFSETTO:-0400
RDATE:20260308T020000
RDATE:20270314T020000
END:DAYLIGHT
END:VTIMEZONE
BEGIN:VEVENT
UID:7caf823b-8358-4368-90f0-87903b96952b
DTSTAMP:20260420T214321Z
DESCRIPTION:
DTSTART;TZID=America/New_York:20260309T120000
DTEND;TZID=America/New_York:20260309T130000
LOCATION:2600 Netherland Avenue\, Bronx\, NY 10463 US
SUMMARY:Lunch In Center
END:VEVENT
END:VCALENDAR
