BEGIN:VCALENDAR
VERSION:2.0
PRODID:-//rssny.org//NONSGML kigkonsult.se iCalcreator 2.30.10//
CALSCALE:GREGORIAN
METHOD:PUBLISH
UID:2114fbac-aa43-468b-9363-e2e97188b1ae
X-WR-CALDESC:Weekly non-competitive bridge game
X-WR-RELCALID:c3e3c103f7f3e3a48486c30bec9f723b
X-WR-TIMEZONE:America/New_York
BEGIN:VTIMEZONE
TZID:America/New_York
BEGIN:STANDARD
TZNAME:EST
DTSTART:20251102T020000
TZOFFSETFROM:-0400
TZOFFSETTO:-0500
RDATE:20261101T020000
END:STANDARD
BEGIN:DAYLIGHT
TZNAME:EDT
DTSTART:20250309T020000
TZOFFSETFROM:-0500
TZOFFSETTO:-0400
RDATE:20260308T020000
RDATE:20270314T020000
END:DAYLIGHT
END:VTIMEZONE
BEGIN:VEVENT
UID:eadc5f3b-ff05-4c0b-8113-c304935deb65
DTSTAMP:20260420T214653Z
DESCRIPTION:Weekly non-competitive bridge game
DTSTART;TZID=America/New_York:20260306T131500
DTEND;TZID=America/New_York:20260306T163000
LOCATION:
SUMMARY:Leisure Games Bridge (In Center)
END:VEVENT
END:VCALENDAR
