BEGIN:VCALENDAR
VERSION:2.0
PRODID:-//rssny.org//NONSGML kigkonsult.se iCalcreator 2.30.10//
CALSCALE:GREGORIAN
METHOD:PUBLISH
UID:dda81b5e-26b9-40d4-ab45-dea9d600e723
X-WR-CALDESC:Join us for breakfast at the Center!
X-WR-RELCALID:6f948ad7f94c8548694c609e042fb265
X-WR-TIMEZONE:America/New_York
BEGIN:VTIMEZONE
TZID:America/New_York
BEGIN:STANDARD
TZNAME:EST
DTSTART:20251102T020000
TZOFFSETFROM:-0400
TZOFFSETTO:-0500
RDATE:20261101T020000
END:STANDARD
BEGIN:DAYLIGHT
TZNAME:EDT
DTSTART:20250309T020000
TZOFFSETFROM:-0500
TZOFFSETTO:-0400
RDATE:20260308T020000
RDATE:20270314T020000
END:DAYLIGHT
END:VTIMEZONE
BEGIN:VEVENT
UID:963f507e-390c-4ac9-903c-694cffbee12e
DTSTAMP:20260420T214738Z
DESCRIPTION:Join us for breakfast at the Center!
DTSTART;TZID=America/New_York:20260304T090000
DTEND;TZID=America/New_York:20260304T100000
LOCATION:
SUMMARY:Breakfast Club (In Center)
END:VEVENT
END:VCALENDAR
