BEGIN:VCALENDAR
VERSION:2.0
PRODID:-//rssny.org//NONSGML kigkonsult.se iCalcreator 2.30.10//
CALSCALE:GREGORIAN
METHOD:PUBLISH
UID:26040c38-656a-4a97-898b-b216631b90c5
X-WR-CALDESC:Weekly non-competitive bridge game
X-WR-RELCALID:bd6e5dec24a7983a70b2a0bd12fc892e
X-WR-TIMEZONE:America/New_York
BEGIN:VTIMEZONE
TZID:America/New_York
BEGIN:STANDARD
TZNAME:EST
DTSTART:20251102T020000
TZOFFSETFROM:-0400
TZOFFSETTO:-0500
RDATE:20261101T020000
END:STANDARD
BEGIN:DAYLIGHT
TZNAME:EDT
DTSTART:20250309T020000
TZOFFSETFROM:-0500
TZOFFSETTO:-0400
RDATE:20260308T020000
RDATE:20270314T020000
END:DAYLIGHT
END:VTIMEZONE
BEGIN:VEVENT
UID:8c640631-9cf1-406a-874d-abd5f9cccbe7
DTSTAMP:20260420T234343Z
DESCRIPTION:Weekly non-competitive bridge game
DTSTART;TZID=America/New_York:20260227T131500
DTEND;TZID=America/New_York:20260227T163000
LOCATION:
SUMMARY:Leisure Games Bridge (In Center)
END:VEVENT
END:VCALENDAR
