BEGIN:VCALENDAR
VERSION:2.0
PRODID:-//rssny.org//NONSGML kigkonsult.se iCalcreator 2.30.10//
CALSCALE:GREGORIAN
METHOD:PUBLISH
UID:11879d66-4389-4aaf-ba8a-441e3c723d12
X-WR-CALDESC:Come and start your morning with Chair yoga and meditation.
X-WR-RELCALID:03b5b2645b542d98ad2c775fda3f01c5
X-WR-TIMEZONE:America/New_York
BEGIN:VTIMEZONE
TZID:America/New_York
BEGIN:STANDARD
TZNAME:EST
DTSTART:20251102T020000
TZOFFSETFROM:-0400
TZOFFSETTO:-0500
RDATE:20261101T020000
END:STANDARD
BEGIN:DAYLIGHT
TZNAME:EDT
DTSTART:20250309T020000
TZOFFSETFROM:-0500
TZOFFSETTO:-0400
RDATE:20260308T020000
RDATE:20270314T020000
END:DAYLIGHT
END:VTIMEZONE
BEGIN:VEVENT
UID:e00b1f7e-efbc-4e77-a49d-8f7937d4d874
DTSTAMP:20260420T234905Z
DESCRIPTION:Come and start your morning with Chair yoga and meditation.
DTSTART;TZID=America/New_York:20260226T094500
DTEND;TZID=America/New_York:20260226T104500
LOCATION:
SUMMARY:Chair Yoga with Anita: Qi Yoga for the Nervous System (In Center)
END:VEVENT
END:VCALENDAR
