BEGIN:VCALENDAR
VERSION:2.0
PRODID:-//rssny.org//NONSGML kigkonsult.se iCalcreator 2.30.10//
CALSCALE:GREGORIAN
METHOD:PUBLISH
UID:8c2f72d3-fc65-450a-a775-d33edc3c8864
X-WR-CALDESC:
X-WR-RELCALID:5fe83a2cf3632c9be1e2bfbcfe5d6ab2
X-WR-TIMEZONE:America/New_York
BEGIN:VTIMEZONE
TZID:America/New_York
BEGIN:STANDARD
TZNAME:EST
DTSTART:20251102T020000
TZOFFSETFROM:-0400
TZOFFSETTO:-0500
RDATE:20261101T020000
END:STANDARD
BEGIN:DAYLIGHT
TZNAME:EDT
DTSTART:20250309T020000
TZOFFSETFROM:-0500
TZOFFSETTO:-0400
RDATE:20260308T020000
RDATE:20270314T020000
END:DAYLIGHT
END:VTIMEZONE
BEGIN:VEVENT
UID:804d64f2-371a-4944-a25f-393645d71602
DTSTAMP:20260420T234504Z
DESCRIPTION:
DTSTART;TZID=America/New_York:20260225T130000
DTEND;TZID=America/New_York:20260225T150000
LOCATION:
SUMMARY:Movies In Center
END:VEVENT
END:VCALENDAR
